BEGIN:VCALENDAR
VERSION:2.0
PRODID:-//Templo Pena Azul - ECPv6.15.20//NONSGML v1.0//EN
CALSCALE:GREGORIAN
METHOD:PUBLISH
X-WR-CALNAME:Templo Pena Azul
X-ORIGINAL-URL:https://templopenaazul.com.br
X-WR-CALDESC:Eventos para Templo Pena Azul
REFRESH-INTERVAL;VALUE=DURATION:PT1H
X-Robots-Tag:noindex
X-PUBLISHED-TTL:PT1H
BEGIN:VTIMEZONE
TZID:UTC
BEGIN:STANDARD
TZOFFSETFROM:+0000
TZOFFSETTO:+0000
TZNAME:UTC
DTSTART:20230101T000000
END:STANDARD
END:VTIMEZONE
BEGIN:VEVENT
DTSTART;TZID=UTC:20250321T200000
DTEND;TZID=UTC:20250321T220000
DTSTAMP:20260423T173013
CREATED:20250224T203627Z
LAST-MODIFIED:20250224T203627Z
UID:467-1742587200-1742594400@templopenaazul.com.br
SUMMARY:Gira de Marinheiros!
DESCRIPTION:
URL:https://templopenaazul.com.br/trabalhos/gira-de-marinheiros/
LOCATION:Templo Pena Azul\, Rua Marius\, 538\, São Paulo\, São Paulo\, 03158-080\, Brazil
CATEGORIES:Gira
END:VEVENT
BEGIN:VEVENT
DTSTART;TZID=UTC:20250319T200000
DTEND;TZID=UTC:20250319T220000
DTSTAMP:20260423T173013
CREATED:20250224T204457Z
LAST-MODIFIED:20250224T204457Z
UID:479-1742414400-1742421600@templopenaazul.com.br
SUMMARY:Desenvolvimiento Mediúnico!
DESCRIPTION:
URL:https://templopenaazul.com.br/trabalhos/desenvolvimiento-mediunico-2/
LOCATION:Templo Pena Azul\, Rua Marius\, 538\, São Paulo\, São Paulo\, 03158-080\, Brazil
CATEGORIES:Curso
END:VEVENT
BEGIN:VEVENT
DTSTART;TZID=UTC:20250314T200000
DTEND;TZID=UTC:20250314T220000
DTSTAMP:20260423T173013
CREATED:20250224T200156Z
LAST-MODIFIED:20250224T200156Z
UID:425-1741982400-1741989600@templopenaazul.com.br
SUMMARY:Gira de Caboclos!
DESCRIPTION:
URL:https://templopenaazul.com.br/trabalhos/gira-de-caboclos-4/
LOCATION:Templo Pena Azul\, Rua Marius\, 538\, São Paulo\, São Paulo\, 03158-080\, Brazil
CATEGORIES:Gira
END:VEVENT
BEGIN:VEVENT
DTSTART;TZID=UTC:20250312T200000
DTEND;TZID=UTC:20250312T220000
DTSTAMP:20260423T173013
CREATED:20250224T204414Z
LAST-MODIFIED:20250224T204414Z
UID:477-1741809600-1741816800@templopenaazul.com.br
SUMMARY:Desenvolvimiento Mediúnico!
DESCRIPTION:
URL:https://templopenaazul.com.br/trabalhos/desenvolvimiento-mediunico/
LOCATION:Templo Pena Azul\, Rua Marius\, 538\, São Paulo\, São Paulo\, 03158-080\, Brazil
CATEGORIES:Curso
END:VEVENT
BEGIN:VEVENT
DTSTART;TZID=UTC:20250307T200000
DTEND;TZID=UTC:20250307T220000
DTSTAMP:20260423T173013
CREATED:20250224T201607Z
LAST-MODIFIED:20250224T201607Z
UID:446-1741377600-1741384800@templopenaazul.com.br
SUMMARY:Gira de Exú e Pomba-Gira!
DESCRIPTION:
URL:https://templopenaazul.com.br/trabalhos/gira-de-exu-e-pomba-gira-4/
LOCATION:Templo Pena Azul\, Rua Marius\, 538\, São Paulo\, São Paulo\, 03158-080\, Brazil
CATEGORIES:Gira
END:VEVENT
BEGIN:VEVENT
DTSTART;TZID=UTC:20250305T200000
DTEND;TZID=UTC:20250305T220000
DTSTAMP:20260423T173013
CREATED:20250224T204259Z
LAST-MODIFIED:20250224T204259Z
UID:475-1741204800-1741212000@templopenaazul.com.br
SUMMARY:Desenvolvimento Mediúnico
DESCRIPTION:
URL:https://templopenaazul.com.br/trabalhos/desenvolvimento-mediunico-15/
LOCATION:Templo Pena Azul\, Rua Marius\, 538\, São Paulo\, São Paulo\, 03158-080\, Brazil
CATEGORIES:Curso
END:VEVENT
BEGIN:VEVENT
DTSTART;TZID=UTC:20241030T200000
DTEND;TZID=UTC:20241030T220000
DTSTAMP:20260423T173013
CREATED:20241003T185742Z
LAST-MODIFIED:20241003T185742Z
UID:409-1730318400-1730325600@templopenaazul.com.br
SUMMARY:Gira Médica\, apenas para indicados!
DESCRIPTION:
URL:https://templopenaazul.com.br/trabalhos/gira-medica-apenas-para-indicados/
LOCATION:Templo Pena Azul\, Rua Marius\, 538\, São Paulo\, São Paulo\, 03158-080\, Brazil
CATEGORIES:Gira
END:VEVENT
BEGIN:VEVENT
DTSTART;TZID=UTC:20241025T200000
DTEND;TZID=UTC:20241025T235900
DTSTAMP:20260423T173013
CREATED:20241003T190439Z
LAST-MODIFIED:20241003T190439Z
UID:419-1729886400-1729900740@templopenaazul.com.br
SUMMARY:Gira a ser definida\, acompanhe!
DESCRIPTION:
URL:https://templopenaazul.com.br/trabalhos/gira-a-ser-definida-acompanhe-8/
LOCATION:Templo Pena Azul\, Rua Marius\, 538\, São Paulo\, São Paulo\, 03158-080\, Brazil
CATEGORIES:Gira
END:VEVENT
BEGIN:VEVENT
DTSTART;TZID=UTC:20241023T200000
DTEND;TZID=UTC:20241023T220000
DTSTAMP:20260423T173013
CREATED:20241003T185640Z
LAST-MODIFIED:20241003T185640Z
UID:407-1729713600-1729720800@templopenaazul.com.br
SUMMARY:Desenvolvimento Mediúnico!
DESCRIPTION:
URL:https://templopenaazul.com.br/trabalhos/desenvolvimento-mediunico-14/
LOCATION:Templo Pena Azul\, Rua Marius\, 538\, São Paulo\, São Paulo\, 03158-080\, Brazil
CATEGORIES:Curso
END:VEVENT
BEGIN:VEVENT
DTSTART;TZID=UTC:20241018T200000
DTEND;TZID=UTC:20241018T235900
DTSTAMP:20260423T173013
CREATED:20241003T190311Z
LAST-MODIFIED:20241003T190311Z
UID:417-1729281600-1729295940@templopenaazul.com.br
SUMMARY:Gira de Caboclos!
DESCRIPTION:
URL:https://templopenaazul.com.br/trabalhos/gira-de-caboclos-3/
LOCATION:Templo Pena Azul\, Rua Marius\, 538\, São Paulo\, São Paulo\, 03158-080\, Brazil
CATEGORIES:Gira
END:VEVENT
BEGIN:VEVENT
DTSTART;TZID=UTC:20241016T200000
DTEND;TZID=UTC:20241016T220000
DTSTAMP:20260423T173013
CREATED:20241003T185413Z
LAST-MODIFIED:20241003T185413Z
UID:405-1729108800-1729116000@templopenaazul.com.br
SUMMARY:Desenvolvimento Mediúnico!
DESCRIPTION:
URL:https://templopenaazul.com.br/trabalhos/desenvolvimento-mediunico-13/
LOCATION:Templo Pena Azul\, Rua Marius\, 538\, São Paulo\, São Paulo\, 03158-080\, Brazil
CATEGORIES:Curso
END:VEVENT
BEGIN:VEVENT
DTSTART;TZID=UTC:20241012T170000
DTEND;TZID=UTC:20241012T220000
DTSTAMP:20260423T173013
CREATED:20241003T185911Z
LAST-MODIFIED:20241003T185911Z
UID:411-1728752400-1728770400@templopenaazul.com.br
SUMMARY:Festa de Cosme e Damião!
DESCRIPTION:
URL:https://templopenaazul.com.br/trabalhos/festa-de-cosme-e-damiao/
LOCATION:Templo Pena Azul\, Rua Marius\, 538\, São Paulo\, São Paulo\, 03158-080\, Brazil
CATEGORIES:Evento,Gira
END:VEVENT
BEGIN:VEVENT
DTSTART;TZID=UTC:20241011T200000
DTEND;TZID=UTC:20241011T220000
DTSTAMP:20260423T173013
CREATED:20241003T185952Z
LAST-MODIFIED:20241003T185952Z
UID:413-1728676800-1728684000@templopenaazul.com.br
SUMMARY:Gira cancelada!
DESCRIPTION:
URL:https://templopenaazul.com.br/trabalhos/gira-cancelada/
LOCATION:Templo Pena Azul\, Rua Marius\, 538\, São Paulo\, São Paulo\, 03158-080\, Brazil
CATEGORIES:Gira
END:VEVENT
BEGIN:VEVENT
DTSTART;TZID=UTC:20241009T200000
DTEND;TZID=UTC:20241009T220000
DTSTAMP:20260423T173013
CREATED:20241003T185203Z
LAST-MODIFIED:20241003T185203Z
UID:403-1728504000-1728511200@templopenaazul.com.br
SUMMARY:Desenvolvimento Mediúnico!
DESCRIPTION:
URL:https://templopenaazul.com.br/trabalhos/desenvolvimento-mediunico-12/
LOCATION:Templo Pena Azul\, Rua Marius\, 538\, São Paulo\, São Paulo\, 03158-080\, Brazil
CATEGORIES:Curso
END:VEVENT
BEGIN:VEVENT
DTSTART;TZID=UTC:20241003T200000
DTEND;TZID=UTC:20241003T235900
DTSTAMP:20260423T173013
CREATED:20241003T190151Z
LAST-MODIFIED:20250224T203025Z
UID:415-1727985600-1727999940@templopenaazul.com.br
SUMMARY:Gira de Exú e Pomba-Gira!
DESCRIPTION:
URL:https://templopenaazul.com.br/trabalhos/gira-de-exu-e-pomba-gira-3/
LOCATION:Templo Pena Azul\, Rua Marius\, 538\, São Paulo\, São Paulo\, 03158-080\, Brazil
CATEGORIES:Gira
END:VEVENT
BEGIN:VEVENT
DTSTART;TZID=UTC:20241002T200000
DTEND;TZID=UTC:20241002T220000
DTSTAMP:20260423T173013
CREATED:20241003T185007Z
LAST-MODIFIED:20241003T185007Z
UID:401-1727899200-1727906400@templopenaazul.com.br
SUMMARY:Desenvolvimento Mediúnico!
DESCRIPTION:
URL:https://templopenaazul.com.br/trabalhos/desenvolvimento-mediunico-11/
LOCATION:Templo Pena Azul\, Rua Marius\, 538\, São Paulo\, São Paulo\, 03158-080\, Brazil
CATEGORIES:Curso
END:VEVENT
BEGIN:VEVENT
DTSTART;TZID=UTC:20240927T200000
DTEND;TZID=UTC:20240927T235900
DTSTAMP:20260423T173013
CREATED:20240903T140319Z
LAST-MODIFIED:20240903T140319Z
UID:394-1727467200-1727481540@templopenaazul.com.br
SUMMARY:Gira a ser definida\, acompanhe!
DESCRIPTION:
URL:https://templopenaazul.com.br/trabalhos/gira-a-ser-definida-acompanhe-7/
LOCATION:Templo Pena Azul\, Rua Marius\, 538\, São Paulo\, São Paulo\, 03158-080\, Brazil
CATEGORIES:Gira
END:VEVENT
BEGIN:VEVENT
DTSTART;TZID=UTC:20240925T200000
DTEND;TZID=UTC:20240925T235900
DTSTAMP:20260423T173013
CREATED:20240903T135855Z
LAST-MODIFIED:20240903T140337Z
UID:386-1727294400-1727308740@templopenaazul.com.br
SUMMARY:Gira Médica\, somente para indicados!
DESCRIPTION:
URL:https://templopenaazul.com.br/trabalhos/gira-medica-somente-para-indicados/
LOCATION:Templo Pena Azul\, Rua Marius\, 538\, São Paulo\, São Paulo\, 03158-080\, Brazil
CATEGORIES:Gira
END:VEVENT
BEGIN:VEVENT
DTSTART;TZID=UTC:20240920T200000
DTEND;TZID=UTC:20240920T235900
DTSTAMP:20260423T173013
CREATED:20240903T140218Z
LAST-MODIFIED:20240903T140218Z
UID:392-1726862400-1726876740@templopenaazul.com.br
SUMMARY:Gira a ser definida\, acompanhe!
DESCRIPTION:
URL:https://templopenaazul.com.br/trabalhos/gira-a-ser-definida-acompanhe-6/
LOCATION:Templo Pena Azul\, Rua Marius\, 538\, São Paulo\, São Paulo\, 03158-080\, Brazil
CATEGORIES:Gira
END:VEVENT
BEGIN:VEVENT
DTSTART;TZID=UTC:20240918T200000
DTEND;TZID=UTC:20240918T235900
DTSTAMP:20260423T173013
CREATED:20240903T135724Z
LAST-MODIFIED:20240903T135724Z
UID:384-1726689600-1726703940@templopenaazul.com.br
SUMMARY:Desenvolvimento Mediúnico
DESCRIPTION:
URL:https://templopenaazul.com.br/trabalhos/desenvolvimento-mediunico-10/
LOCATION:Templo Pena Azul\, Rua Marius\, 538\, São Paulo\, São Paulo\, 03158-080\, Brazil
CATEGORIES:Curso
END:VEVENT
BEGIN:VEVENT
DTSTART;TZID=UTC:20240913T200000
DTEND;TZID=UTC:20240913T235900
DTSTAMP:20260423T173013
CREATED:20240903T140117Z
LAST-MODIFIED:20240903T140117Z
UID:390-1726257600-1726271940@templopenaazul.com.br
SUMMARY:Gira de Caboclos!
DESCRIPTION:
URL:https://templopenaazul.com.br/trabalhos/gira-de-caboclos-2/
LOCATION:Templo Pena Azul\, Rua Marius\, 538\, São Paulo\, São Paulo\, 03158-080\, Brazil
CATEGORIES:Gira
END:VEVENT
BEGIN:VEVENT
DTSTART;TZID=UTC:20240911T200000
DTEND;TZID=UTC:20240911T235900
DTSTAMP:20260423T173013
CREATED:20240903T135602Z
LAST-MODIFIED:20240903T135602Z
UID:382-1726084800-1726099140@templopenaazul.com.br
SUMMARY:Desenvolvimento Mediúnico
DESCRIPTION:
URL:https://templopenaazul.com.br/trabalhos/desenvolvimento-mediunico-9/
LOCATION:Templo Pena Azul\, Rua Marius\, 538\, São Paulo\, São Paulo\, 03158-080\, Brazil
CATEGORIES:Curso
END:VEVENT
BEGIN:VEVENT
DTSTART;TZID=UTC:20240906T200000
DTEND;TZID=UTC:20240906T235900
DTSTAMP:20260423T173013
CREATED:20240903T140010Z
LAST-MODIFIED:20240903T140010Z
UID:388-1725652800-1725667140@templopenaazul.com.br
SUMMARY:Gira de Exú!
DESCRIPTION:
URL:https://templopenaazul.com.br/trabalhos/gira-de-exu/
LOCATION:Templo Pena Azul\, Rua Marius\, 538\, São Paulo\, São Paulo\, 03158-080\, Brazil
CATEGORIES:Gira
END:VEVENT
BEGIN:VEVENT
DTSTART;TZID=UTC:20240904T200000
DTEND;TZID=UTC:20240904T235900
DTSTAMP:20260423T173013
CREATED:20240903T135417Z
LAST-MODIFIED:20240903T135417Z
UID:380-1725480000-1725494340@templopenaazul.com.br
SUMMARY:Desenvolvimento Mediúnico
DESCRIPTION:
URL:https://templopenaazul.com.br/trabalhos/desenvolvimento-mediunico-8/
LOCATION:Templo Pena Azul\, Rua Marius\, 538\, São Paulo\, São Paulo\, 03158-080\, Brazil
CATEGORIES:Curso
END:VEVENT
BEGIN:VEVENT
DTSTART;TZID=UTC:20240831T160000
DTEND;TZID=UTC:20240831T235900
DTSTAMP:20260423T173013
CREATED:20240805T175419Z
LAST-MODIFIED:20240805T175458Z
UID:371-1725120000-1725148740@templopenaazul.com.br
SUMMARY:Festa de Exú!
DESCRIPTION: 
URL:https://templopenaazul.com.br/trabalhos/festa-de-exu/
LOCATION:Templo Pena Azul\, Rua Marius\, 538\, São Paulo\, São Paulo\, 03158-080\, Brazil
CATEGORIES:Evento
END:VEVENT
BEGIN:VEVENT
DTSTART;TZID=UTC:20240830T200000
DTEND;TZID=UTC:20240830T235900
DTSTAMP:20260423T173013
CREATED:20240801T140451Z
LAST-MODIFIED:20240805T175546Z
UID:366-1725048000-1725062340@templopenaazul.com.br
SUMMARY:Gira cancelada!
DESCRIPTION:
URL:https://templopenaazul.com.br/trabalhos/gira-a-ser-definida-acompanhe-5/
LOCATION:Templo Pena Azul\, Rua Marius\, 538\, São Paulo\, São Paulo\, 03158-080\, Brazil
CATEGORIES:Gira
END:VEVENT
BEGIN:VEVENT
DTSTART;TZID=UTC:20240828T200000
DTEND;TZID=UTC:20240828T233000
DTSTAMP:20260423T173013
CREATED:20240801T140357Z
LAST-MODIFIED:20240801T140357Z
UID:364-1724875200-1724887800@templopenaazul.com.br
SUMMARY:Gira Médica\, somente indicados!
DESCRIPTION:
URL:https://templopenaazul.com.br/trabalhos/gira-medica-somente-indicados/
LOCATION:Templo Pena Azul\, Rua Marius\, 538\, São Paulo\, São Paulo\, 03158-080\, Brazil
CATEGORIES:Gira
END:VEVENT
BEGIN:VEVENT
DTSTART;TZID=UTC:20240823T200000
DTEND;TZID=UTC:20240823T235900
DTSTAMP:20260423T173013
CREATED:20240801T140303Z
LAST-MODIFIED:20240801T140303Z
UID:362-1724443200-1724457540@templopenaazul.com.br
SUMMARY:Gira a ser definida\, acompanhe!
DESCRIPTION:
URL:https://templopenaazul.com.br/trabalhos/gira-a-ser-definida-acompanhe-4/
LOCATION:Templo Pena Azul\, Rua Marius\, 538\, São Paulo\, São Paulo\, 03158-080\, Brazil
CATEGORIES:Gira
END:VEVENT
BEGIN:VEVENT
DTSTART;TZID=UTC:20240821T080000
DTEND;TZID=UTC:20240821T233000
DTSTAMP:20260423T173013
CREATED:20240801T140156Z
LAST-MODIFIED:20240801T140156Z
UID:360-1724227200-1724283000@templopenaazul.com.br
SUMMARY:Desenvolvimento Mediúnico
DESCRIPTION:
URL:https://templopenaazul.com.br/trabalhos/desenvolvimento-mediunico-7/
LOCATION:Templo Pena Azul\, Rua Marius\, 538\, São Paulo\, São Paulo\, 03158-080\, Brazil
CATEGORIES:Curso
END:VEVENT
BEGIN:VEVENT
DTSTART;TZID=UTC:20240816T200000
DTEND;TZID=UTC:20240816T235900
DTSTAMP:20260423T173013
CREATED:20240801T140113Z
LAST-MODIFIED:20240805T175309Z
UID:358-1723838400-1723852740@templopenaazul.com.br
SUMMARY:Gira de Preto-Velho!
DESCRIPTION:
URL:https://templopenaazul.com.br/trabalhos/gira-a-ser-definida-acompanhe-2/
LOCATION:Templo Pena Azul\, Rua Marius\, 538\, São Paulo\, São Paulo\, 03158-080\, Brazil
CATEGORIES:Gira
END:VEVENT
END:VCALENDAR