BEGIN:VCALENDAR
VERSION:2.0
PRODID:-//Templo Pena Azul - ECPv6.15.20//NONSGML v1.0//EN
CALSCALE:GREGORIAN
METHOD:PUBLISH
X-WR-CALNAME:Templo Pena Azul
X-ORIGINAL-URL:https://templopenaazul.com.br
X-WR-CALDESC:Eventos para Templo Pena Azul
REFRESH-INTERVAL;VALUE=DURATION:PT1H
X-Robots-Tag:noindex
X-PUBLISHED-TTL:PT1H
BEGIN:VTIMEZONE
TZID:UTC
BEGIN:STANDARD
TZOFFSETFROM:+0000
TZOFFSETTO:+0000
TZNAME:UTC
DTSTART:20240101T000000
END:STANDARD
END:VTIMEZONE
BEGIN:VEVENT
DTSTART;TZID=UTC:20251212T200000
DTEND;TZID=UTC:20251212T220000
DTSTAMP:20260423T123325
CREATED:20250224T202448Z
LAST-MODIFIED:20250224T202448Z
UID:464-1765569600-1765576800@templopenaazul.com.br
SUMMARY:Gira de Exú e Pomba-Gira!
DESCRIPTION:
URL:https://templopenaazul.com.br/trabalhos/gira-de-exu-e-pomba-gira-12/
LOCATION:Templo Pena Azul\, Rua Marius\, 538\, São Paulo\, São Paulo\, 03158-080\, Brazil
CATEGORIES:Gira
END:VEVENT
BEGIN:VEVENT
DTSTART;TZID=UTC:20251205T200000
DTEND;TZID=UTC:20251205T220000
DTSTAMP:20260423T123325
CREATED:20250224T201322Z
LAST-MODIFIED:20250224T201322Z
UID:443-1764964800-1764972000@templopenaazul.com.br
SUMMARY:Gira de Caboclos!
DESCRIPTION:
URL:https://templopenaazul.com.br/trabalhos/gira-de-caboclos-13/
LOCATION:Templo Pena Azul\, Rua Marius\, 538\, São Paulo\, São Paulo\, 03158-080\, Brazil
CATEGORIES:Gira
END:VEVENT
BEGIN:VEVENT
DTSTART;TZID=UTC:20251126T200000
DTEND;TZID=UTC:20251126T220000
DTSTAMP:20260423T123325
CREATED:20250224T205649Z
LAST-MODIFIED:20250224T205649Z
UID:497-1764187200-1764194400@templopenaazul.com.br
SUMMARY:Gira Médica\, apenas para indicados!
DESCRIPTION:
URL:https://templopenaazul.com.br/trabalhos/gira-medica-apenas-para-indicados-10/
LOCATION:Templo Pena Azul\, Rua Marius\, 538\, São Paulo\, São Paulo\, 03158-080\, Brazil
CATEGORIES:Gira
END:VEVENT
BEGIN:VEVENT
DTSTART;TZID=UTC:20251114T200000
DTEND;TZID=UTC:20251114T220000
DTSTAMP:20260423T123325
CREATED:20250224T201035Z
LAST-MODIFIED:20250224T201035Z
UID:441-1763150400-1763157600@templopenaazul.com.br
SUMMARY:Gira de Caboclos!
DESCRIPTION:
URL:https://templopenaazul.com.br/trabalhos/gira-de-caboclos-12/
LOCATION:Templo Pena Azul\, Rua Marius\, 538\, São Paulo\, São Paulo\, 03158-080\, Brazil
CATEGORIES:Gira
END:VEVENT
BEGIN:VEVENT
DTSTART;TZID=UTC:20251107T200000
DTEND;TZID=UTC:20251107T220000
DTSTAMP:20260423T123325
CREATED:20250224T202359Z
LAST-MODIFIED:20250224T202935Z
UID:462-1762545600-1762552800@templopenaazul.com.br
SUMMARY:Gira de Exú e Pomba-Gira!
DESCRIPTION:
URL:https://templopenaazul.com.br/trabalhos/gira-de-exu-e-pomba-gira-11/
LOCATION:Templo Pena Azul\, Rua Marius\, 538\, São Paulo\, São Paulo\, 03158-080\, Brazil
CATEGORIES:Gira
END:VEVENT
BEGIN:VEVENT
DTSTART;TZID=UTC:20251029T200000
DTEND;TZID=UTC:20251029T220000
DTSTAMP:20260423T123325
CREATED:20250224T205538Z
LAST-MODIFIED:20250224T205538Z
UID:495-1761768000-1761775200@templopenaazul.com.br
SUMMARY:Gira Médica\, apenas para indicados!
DESCRIPTION:
URL:https://templopenaazul.com.br/trabalhos/gira-medica-apenas-para-indicados-9/
LOCATION:Templo Pena Azul\, Rua Marius\, 538\, São Paulo\, São Paulo\, 03158-080\, Brazil
CATEGORIES:Gira
END:VEVENT
BEGIN:VEVENT
DTSTART;TZID=UTC:20251024T200000
DTEND;TZID=UTC:20251024T220000
DTSTAMP:20260423T123325
CREATED:20250224T203816Z
LAST-MODIFIED:20250224T203816Z
UID:471-1761336000-1761343200@templopenaazul.com.br
SUMMARY:Gira de Marinheiros!
DESCRIPTION:
URL:https://templopenaazul.com.br/trabalhos/gira-de-marinheiros-3/
LOCATION:Templo Pena Azul\, Rua Marius\, 538\, São Paulo\, São Paulo\, 03158-080\, Brazil
CATEGORIES:Gira
END:VEVENT
BEGIN:VEVENT
DTSTART;TZID=UTC:20251010T200000
DTEND;TZID=UTC:20251010T220000
DTSTAMP:20260423T123325
CREATED:20250224T200952Z
LAST-MODIFIED:20250224T200952Z
UID:439-1760126400-1760133600@templopenaazul.com.br
SUMMARY:Gira de Caboclos!
DESCRIPTION:
URL:https://templopenaazul.com.br/trabalhos/gira-de-caboclos-11/
LOCATION:Templo Pena Azul\, Rua Marius\, 538\, São Paulo\, São Paulo\, 03158-080\, Brazil
CATEGORIES:Gira
END:VEVENT
BEGIN:VEVENT
DTSTART;TZID=UTC:20251003T200000
DTEND;TZID=UTC:20251003T220000
DTSTAMP:20260423T123325
CREATED:20250224T202318Z
LAST-MODIFIED:20250224T203302Z
UID:460-1759521600-1759528800@templopenaazul.com.br
SUMMARY:Gira de Exú e Pomba-Gira!
DESCRIPTION:
URL:https://templopenaazul.com.br/trabalhos/gira-de-exu-e-pomba-gira-10/
LOCATION:Templo Pena Azul\, Rua Marius\, 538\, São Paulo\, São Paulo\, 03158-080\, Brazil
CATEGORIES:Gira
END:VEVENT
BEGIN:VEVENT
DTSTART;TZID=UTC:20250924T200000
DTEND;TZID=UTC:20250924T220000
DTSTAMP:20260423T123325
CREATED:20250224T205440Z
LAST-MODIFIED:20250224T205440Z
UID:493-1758744000-1758751200@templopenaazul.com.br
SUMMARY:Gira Médica\, apenas para indicados!
DESCRIPTION:
URL:https://templopenaazul.com.br/trabalhos/gira-medica-apenas-para-indicados-8/
LOCATION:Templo Pena Azul\, Rua Marius\, 538\, São Paulo\, São Paulo\, 03158-080\, Brazil
CATEGORIES:Gira
END:VEVENT
BEGIN:VEVENT
DTSTART;TZID=UTC:20250912T200000
DTEND;TZID=UTC:20250912T220000
DTSTAMP:20260423T123325
CREATED:20250224T200857Z
LAST-MODIFIED:20250224T200857Z
UID:437-1757707200-1757714400@templopenaazul.com.br
SUMMARY:Gira de Caboclos!
DESCRIPTION:
URL:https://templopenaazul.com.br/trabalhos/gira-de-caboclos-10/
LOCATION:Templo Pena Azul\, Rua Marius\, 538\, São Paulo\, São Paulo\, 03158-080\, Brazil
CATEGORIES:Gira
END:VEVENT
BEGIN:VEVENT
DTSTART;TZID=UTC:20250905T200000
DTEND;TZID=UTC:20250905T220000
DTSTAMP:20260423T123325
CREATED:20250224T202230Z
LAST-MODIFIED:20250224T202807Z
UID:458-1757102400-1757109600@templopenaazul.com.br
SUMMARY:Gira de Pomba-Gira!
DESCRIPTION:
URL:https://templopenaazul.com.br/trabalhos/gira-de-pomba-gira/
LOCATION:Templo Pena Azul\, Rua Marius\, 538\, São Paulo\, São Paulo\, 03158-080\, Brazil
CATEGORIES:Gira
END:VEVENT
BEGIN:VEVENT
DTSTART;TZID=UTC:20250827T200000
DTEND;TZID=UTC:20250827T220000
DTSTAMP:20260423T123325
CREATED:20250224T205333Z
LAST-MODIFIED:20250224T205333Z
UID:491-1756324800-1756332000@templopenaazul.com.br
SUMMARY:Gira Médica\, apenas para indicados!
DESCRIPTION:
URL:https://templopenaazul.com.br/trabalhos/gira-medica-apenas-para-indicados-7/
LOCATION:Templo Pena Azul\, Rua Marius\, 538\, São Paulo\, São Paulo\, 03158-080\, Brazil
CATEGORIES:Gira
END:VEVENT
BEGIN:VEVENT
DTSTART;TZID=UTC:20250815T200000
DTEND;TZID=UTC:20250815T220000
DTSTAMP:20260423T123325
CREATED:20250224T203730Z
LAST-MODIFIED:20250224T203730Z
UID:469-1755288000-1755295200@templopenaazul.com.br
SUMMARY:Gira de Marinheiros!
DESCRIPTION:
URL:https://templopenaazul.com.br/trabalhos/gira-de-marinheiros-2/
LOCATION:Templo Pena Azul\, Rua Marius\, 538\, São Paulo\, São Paulo\, 03158-080\, Brazil
CATEGORIES:Gira
END:VEVENT
BEGIN:VEVENT
DTSTART;TZID=UTC:20250808T200000
DTEND;TZID=UTC:20250808T220000
DTSTAMP:20260423T123325
CREATED:20250224T200748Z
LAST-MODIFIED:20250224T200748Z
UID:435-1754683200-1754690400@templopenaazul.com.br
SUMMARY:Gira de Caboclos!
DESCRIPTION:
URL:https://templopenaazul.com.br/trabalhos/gira-de-caboclos-9/
LOCATION:Templo Pena Azul\, Rua Marius\, 538\, São Paulo\, São Paulo\, 03158-080\, Brazil
CATEGORIES:Gira
END:VEVENT
BEGIN:VEVENT
DTSTART;TZID=UTC:20250801T200000
DTEND;TZID=UTC:20250801T220000
DTSTAMP:20260423T123325
CREATED:20250224T202056Z
LAST-MODIFIED:20250224T203155Z
UID:456-1754078400-1754085600@templopenaazul.com.br
SUMMARY:Gira de Exú e Pomba-Gira!
DESCRIPTION:
URL:https://templopenaazul.com.br/trabalhos/gira-de-exu-e-pomba-gira-9/
LOCATION:Templo Pena Azul\, Rua Marius\, 538\, São Paulo\, São Paulo\, 03158-080\, Brazil
CATEGORIES:Gira
END:VEVENT
BEGIN:VEVENT
DTSTART;TZID=UTC:20250730T200000
DTEND;TZID=UTC:20250730T220000
DTSTAMP:20260423T123325
CREATED:20250224T205229Z
LAST-MODIFIED:20250224T205229Z
UID:489-1753905600-1753912800@templopenaazul.com.br
SUMMARY:Gira Médica\, apenas para indicados!
DESCRIPTION:
URL:https://templopenaazul.com.br/trabalhos/gira-medica-apenas-para-indicados-6/
LOCATION:Templo Pena Azul\, Rua Marius\, 538\, São Paulo\, São Paulo\, 03158-080\, Brazil
CATEGORIES:Gira
END:VEVENT
BEGIN:VEVENT
DTSTART;TZID=UTC:20250711T200000
DTEND;TZID=UTC:20250711T220000
DTSTAMP:20260423T123325
CREATED:20250224T200658Z
LAST-MODIFIED:20250224T200658Z
UID:433-1752264000-1752271200@templopenaazul.com.br
SUMMARY:Gira de Caboclos!
DESCRIPTION:
URL:https://templopenaazul.com.br/trabalhos/gira-de-caboclos-8/
LOCATION:Templo Pena Azul\, Rua Marius\, 538\, São Paulo\, São Paulo\, 03158-080\, Brazil
CATEGORIES:Gira
END:VEVENT
BEGIN:VEVENT
DTSTART;TZID=UTC:20250704T200000
DTEND;TZID=UTC:20250704T220000
DTSTAMP:20260423T123325
CREATED:20250224T202016Z
LAST-MODIFIED:20250224T202016Z
UID:454-1751659200-1751666400@templopenaazul.com.br
SUMMARY:Gira de Exú e Pomba-Gira!
DESCRIPTION:
URL:https://templopenaazul.com.br/trabalhos/gira-de-exu-e-pomba-gira-8/
LOCATION:Templo Pena Azul\, Rua Marius\, 538\, São Paulo\, São Paulo\, 03158-080\, Brazil
CATEGORIES:Gira
END:VEVENT
BEGIN:VEVENT
DTSTART;TZID=UTC:20250625T200000
DTEND;TZID=UTC:20250625T220000
DTSTAMP:20260423T123325
CREATED:20250224T205105Z
LAST-MODIFIED:20250224T205105Z
UID:487-1750881600-1750888800@templopenaazul.com.br
SUMMARY:Gira Médica\, apenas para indicados!
DESCRIPTION:
URL:https://templopenaazul.com.br/trabalhos/gira-medica-apenas-para-indicados-5/
LOCATION:Templo Pena Azul\, Rua Marius\, 538\, São Paulo\, São Paulo\, 03158-080\, Brazil
CATEGORIES:Gira
END:VEVENT
BEGIN:VEVENT
DTSTART;TZID=UTC:20250613T200000
DTEND;TZID=UTC:20250613T220000
DTSTAMP:20260423T123325
CREATED:20250224T200615Z
LAST-MODIFIED:20250224T200615Z
UID:431-1749844800-1749852000@templopenaazul.com.br
SUMMARY:Gira de Caboclos!
DESCRIPTION:
URL:https://templopenaazul.com.br/trabalhos/gira-de-caboclos-7/
LOCATION:Templo Pena Azul\, Rua Marius\, 538\, São Paulo\, São Paulo\, 03158-080\, Brazil
CATEGORIES:Gira
END:VEVENT
BEGIN:VEVENT
DTSTART;TZID=UTC:20250606T200000
DTEND;TZID=UTC:20250606T220000
DTSTAMP:20260423T123325
CREATED:20250224T201927Z
LAST-MODIFIED:20250224T201927Z
UID:452-1749240000-1749247200@templopenaazul.com.br
SUMMARY:Gira de Exú e Pomba-Gira!
DESCRIPTION:
URL:https://templopenaazul.com.br/trabalhos/gira-de-exu-e-pomba-gira-7/
LOCATION:Templo Pena Azul\, Rua Marius\, 538\, São Paulo\, São Paulo\, 03158-080\, Brazil
CATEGORIES:Gira
END:VEVENT
BEGIN:VEVENT
DTSTART;TZID=UTC:20250528T200000
DTEND;TZID=UTC:20250528T220000
DTSTAMP:20260423T123325
CREATED:20250224T204953Z
LAST-MODIFIED:20250224T204953Z
UID:485-1748462400-1748469600@templopenaazul.com.br
SUMMARY:Gira Médica\, apenas para indicados!
DESCRIPTION:
URL:https://templopenaazul.com.br/trabalhos/gira-medica-apenas-para-indicados-4/
LOCATION:Templo Pena Azul\, Rua Marius\, 538\, São Paulo\, São Paulo\, 03158-080\, Brazil
CATEGORIES:Gira
END:VEVENT
BEGIN:VEVENT
DTSTART;TZID=UTC:20250523T200000
DTEND;TZID=UTC:20250523T220000
DTSTAMP:20260423T123325
CREATED:20250521T132740Z
LAST-MODIFIED:20250521T132740Z
UID:525-1748030400-1748037600@templopenaazul.com.br
SUMMARY:Gira de Pretos-Velhos
DESCRIPTION:🕯️ Gira em Louvação aos Pretos Velhos\n📅 23 de maio | ⏰ 20h\n(Portões abertos às 19h30\, para que todos se acomodem com tranquilidade) \nEles não chegam com pressa.\nChegam com o tempo…\no tempo da reza sussurrada\, da mão que acolhe e da palavra que cura. \nNesta gira\, é o silêncio que ensina\,\né o ponto que embala\,\né a sabedoria que brota como raiz antiga. \nTraga seu coração aberto.\nE deixe que os Pretos-Velhos façam o resto —\ncom calma\, com fé e com axé. \nAtotô\, meus velhos.\nQue sua luz siga nos guiando com humildade e sabedoria. \n#GiraDePretoVelho #TemploPenaAzul #Atotô #SabedoriaAncestral #UmbandaComFé #FéQueAbraça
URL:https://templopenaazul.com.br/trabalhos/gira-de-pretos-velhos/
LOCATION:Templo Pena Azul\, Rua Marius\, 538\, São Paulo\, São Paulo\, 03158-080\, Brazil
ATTACH;FMTTYPE=image/png:https://templopenaazul.com.br/wp-content/uploads/2025/05/Giras-Pena-Azul-1-scaled.png
END:VEVENT
BEGIN:VEVENT
DTSTART;TZID=UTC:20250516T200000
DTEND;TZID=UTC:20250516T220000
DTSTAMP:20260423T123325
CREATED:20250224T200521Z
LAST-MODIFIED:20250224T200521Z
UID:429-1747425600-1747432800@templopenaazul.com.br
SUMMARY:Gira de Caboclos!
DESCRIPTION:
URL:https://templopenaazul.com.br/trabalhos/gira-de-caboclos-6/
LOCATION:Templo Pena Azul\, Rua Marius\, 538\, São Paulo\, São Paulo\, 03158-080\, Brazil
CATEGORIES:Gira
END:VEVENT
BEGIN:VEVENT
DTSTART;TZID=UTC:20250509T200000
DTEND;TZID=UTC:20250509T220000
DTSTAMP:20260423T123325
CREATED:20250224T201832Z
LAST-MODIFIED:20250506T190534Z
UID:450-1746820800-1746828000@templopenaazul.com.br
SUMMARY:Gira de Exú e Pomba-Gira!
DESCRIPTION:🕯️ Gira de Exu\n📅 09 de maio | ⏰ 20h\n(Portões abertos a partir das 19h30) \nExu não é bagunça.\nÉ ordem que chega antes do caos\,\né caminho que se abre onde só havia pedra\,\né sabedoria disfarçada de riso e silêncio. \nNesta gira\, cada ponto é passagem.\nCada vela acesa\, um chamado de fé. \n🌿 Pedimos à assistência que traga sua garrafinha de água.\nNo nosso terreiro\, não distribuímos descartáveis —\nporque quem respeita o sagrado\, cuida também da Terra. \nLaroyê\, Exu! Que nos mostre o caminho\, e também como pisar sobre ele.
URL:https://templopenaazul.com.br/trabalhos/gira-de-exu-e-pomba-gira-6/
LOCATION:Templo Pena Azul\, Rua Marius\, 538\, São Paulo\, São Paulo\, 03158-080\, Brazil
CATEGORIES:Gira
ATTACH;FMTTYPE=image/jpeg:https://templopenaazul.com.br/wp-content/uploads/2025/02/Giras-Pena-Azul.jpg
END:VEVENT
BEGIN:VEVENT
DTSTART;TZID=UTC:20250430T200000
DTEND;TZID=UTC:20250430T220000
DTSTAMP:20260423T123325
CREATED:20250224T204722Z
LAST-MODIFIED:20250224T204722Z
UID:483-1746043200-1746050400@templopenaazul.com.br
SUMMARY:Gira Médica\, apenas para indicados!
DESCRIPTION:
URL:https://templopenaazul.com.br/trabalhos/gira-medica-apenas-para-indicados-3/
LOCATION:Templo Pena Azul\, Rua Marius\, 538\, São Paulo\, São Paulo\, 03158-080\, Brazil
CATEGORIES:Gira
END:VEVENT
BEGIN:VEVENT
DTSTART;TZID=UTC:20250426T200000
DTEND;TZID=UTC:20250426T220000
DTSTAMP:20260423T123325
CREATED:20250224T210220Z
LAST-MODIFIED:20250224T210220Z
UID:503-1745697600-1745704800@templopenaazul.com.br
SUMMARY:Festa de Ogum!
DESCRIPTION:
URL:https://templopenaazul.com.br/trabalhos/festa-de-ogum/
LOCATION:Templo Pena Azul\, Rua Marius\, 538\, São Paulo\, São Paulo\, 03158-080\, Brazil
CATEGORIES:Gira
END:VEVENT
BEGIN:VEVENT
DTSTART;TZID=UTC:20250425T200000
DTEND;TZID=UTC:20250425T220000
DTSTAMP:20260423T123325
CREATED:20250224T210121Z
LAST-MODIFIED:20250224T210121Z
UID:501-1745611200-1745618400@templopenaazul.com.br
SUMMARY:Gira cancelada!
DESCRIPTION:
URL:https://templopenaazul.com.br/trabalhos/gira-cancelada-2/
LOCATION:Templo Pena Azul\, Rua Marius\, 538\, São Paulo\, São Paulo\, 03158-080\, Brazil
CATEGORIES:Gira
END:VEVENT
BEGIN:VEVENT
DTSTART;TZID=UTC:20250418T200000
DTEND;TZID=UTC:20250418T220000
DTSTAMP:20260423T123325
CREATED:20250224T210023Z
LAST-MODIFIED:20250224T210023Z
UID:499-1745006400-1745013600@templopenaazul.com.br
SUMMARY:Gira de Preto-velho!
DESCRIPTION:
URL:https://templopenaazul.com.br/trabalhos/gira-de-preto-velho/
LOCATION:Templo Pena Azul\, Rua Marius\, 538\, São Paulo\, São Paulo\, 03158-080\, Brazil
CATEGORIES:Gira
END:VEVENT
END:VCALENDAR